BEGIN:VCALENDAR
VERSION:2.0
PRODID:-//Toni Childs - ECPv6.15.3//NONSGML v1.0//EN
CALSCALE:GREGORIAN
METHOD:PUBLISH
X-WR-CALNAME:Toni Childs
X-ORIGINAL-URL:https://tonichilds.com
X-WR-CALDESC:Events for Toni Childs
REFRESH-INTERVAL;VALUE=DURATION:PT1H
X-Robots-Tag:noindex
X-PUBLISHED-TTL:PT1H
BEGIN:VTIMEZONE
TZID:Australia/Sydney
BEGIN:STANDARD
TZOFFSETFROM:+1100
TZOFFSETTO:+1000
TZNAME:AEST
DTSTART:20250405T160000
END:STANDARD
BEGIN:DAYLIGHT
TZOFFSETFROM:+1000
TZOFFSETTO:+1100
TZNAME:AEDT
DTSTART:20251004T160000
END:DAYLIGHT
END:VTIMEZONE
BEGIN:VEVENT
DTSTART;TZID=Australia/Sydney:20250301T193000
DTEND;TZID=Australia/Sydney:20250301T220000
DTSTAMP:20260424T205002
CREATED:20250115T041428Z
LAST-MODIFIED:20250115T085834Z
UID:16076-1740857400-1740866400@tonichilds.com
SUMMARY:Darwin Entertainment Centre - Darwin NT
DESCRIPTION:Join the legendary Toni Childs for a special two-hour performance as she celebrates her life’s musical works. Toni will be performing hits and fan favourites from Union\, House of Hope\, the Woman’s Boat and Keep the Faith in the first hour of her show then the second hour will be an introduction to Toni’s new music\, from two very special albums It’s All a Beautiful Noise and Citizens of the Planet._ \n  \n \n  \n\nToni is offering an EXCLUSIVE VIP MEET & GREET PACKAGE. This exciting opportunity includes one concert ticket within the first row\, a digital copy of Toni Childs’ Greatest Hits two CD set plus a drink backstage before the concert with Toni\, at a special ticket price of $175. There is an allocation of 16 per show and this unique – once in a lifetime – experience can be purchased at the box office. \nEmmy Winner and three-time Grammy nominated recording artist\, Toni is a celebrated singer/songwriter known for her powerful voice\, inspiring independent spirit and crafted storytelling. With fans in over 50 countries around the world\, Toni has produced a list of international hits such as: Don’t Walk Away\, Stop Your Fussin’\, Walk and Talk Like Angels\, Zimbabwe\, Where’s the Ocean\, Many Rivers to Cross\, I’ve Got to Go Now and Because You’re Beautiful\, to name a few. \nOver Toni’s illustrious career she has opened for Bob Dylan and performed duets with greats such as Al Green and Peter Gabriel.  She has toured the world over gaining a much loved fan base. \nThe coming years will see the wider release of two very special albums of music.  First\, ‘It’s All A Beautiful Noise’ and the second ‘Citizens Of The Planet’.  Both releases are a part of two unique 3D Mapping animated shows – two hours of music\, animation and high-tech audience engagement. \nRelive your best musical memories with Toni Childs’ – A Retrospective – Live in Concert. \n 
URL:https://tonichilds.com/event/darwin-entertainment-centre-darwin-nt/
LOCATION:Darwin Entertainment Theatre\, 93 Mitchell St\,\, Darwin City\, NT\, 0800\, Australia
CATEGORIES:Concert
ATTACH;FMTTYPE=image/jpeg:https://tonichilds.com/wp-content/uploads/2024/10/IMG_6765-scaled.jpeg
ORGANIZER;CN="Big Mother Entertainment":MAILTO:admin@bigmotherentertainment.com
END:VEVENT
BEGIN:VEVENT
DTSTART;TZID=Australia/Sydney:20250306T193000
DTEND;TZID=Australia/Sydney:20250306T220000
DTSTAMP:20260424T205002
CREATED:20250113T033306Z
LAST-MODIFIED:20250113T033306Z
UID:16062-1741289400-1741298400@tonichilds.com
SUMMARY:Red Earth Arts Precinct - Karratha WA
DESCRIPTION:Join the legendary Toni Childs for a special two-hour performance as she celebrates her life’s musical works. Toni will be performing hits and fan favourites from Union\, House of Hope\, the Woman’s Boat and Keep the Faith in the first hour of her show then the second hour will be an introduction to Toni’s new music\, from two very special albums It’s All a Beautiful Noise and Citizens of the Planet._ \n  \n \n  \n\nToni is offering an EXCLUSIVE VIP MEET & GREET PACKAGE. This exciting opportunity includes one concert ticket within the first row\, a digital copy of Toni Childs’ Greatest Hits two CD set plus a drink backstage before the concert with Toni\, at a special ticket price of $175. There is an allocation of 15 per show and this unique – once in a lifetime – experience can be purchased at the box office. \nEmmy Winner and three-time Grammy nominated recording artist\, Toni is a celebrated singer/songwriter known for her powerful voice\, inspiring independent spirit and crafted storytelling. With fans in over 50 countries around the world\, Toni has produced a list of international hits such as: Don’t Walk Away\, Stop Your Fussin’\, Walk and Talk Like Angels\, Zimbabwe\, Where’s the Ocean\, Many Rivers to Cross\, I’ve Got to Go Now and Because You’re Beautiful\, to name a few. \nOver Toni’s illustrious career she has opened for Bob Dylan and performed duets with greats such as Al Green and Peter Gabriel.  She has toured the world over gaining a much loved fan base. \nThe coming years will see the wider release of two very special albums of music.  First\, ‘It’s All A Beautiful Noise’ and the second ‘Citizens Of The Planet’.  Both releases are a part of two unique 3D Mapping animated shows – two hours of music\, animation and high tech audience engagement. \nRelive your best musical memories with Toni Childs’ – A Retrospective – Live in Concert. \n 
URL:https://tonichilds.com/event/red-earth-arts-precinct-karratha-wa/
LOCATION:Red Earth Arts Precinct\, 27 Welcome Rd\, Karratha\, WA\, 6714\, Australia
CATEGORIES:Concert
ATTACH;FMTTYPE=image/jpeg:https://tonichilds.com/wp-content/uploads/2024/10/IMG_6765-scaled.jpeg
ORGANIZER;CN="Big Mother Entertainment":MAILTO:admin@bigmotherentertainment.com
END:VEVENT
BEGIN:VEVENT
DTSTART;TZID=Australia/Sydney:20250307T193000
DTEND;TZID=Australia/Sydney:20250307T220000
DTSTAMP:20260424T205002
CREATED:20250113T034612Z
LAST-MODIFIED:20250113T034747Z
UID:16067-1741375800-1741384800@tonichilds.com
SUMMARY:Astor Theatre - Perth WA
DESCRIPTION:Join the legendary Toni Childs for a special two-hour performance as she celebrates her life’s musical works. Toni will be performing hits and fan favourites from Union\, House of Hope\, the Woman’s Boat and Keep the Faith in the first hour of her show then the second hour will be an introduction to Toni’s new music\, from two very special albums It’s All a Beautiful Noise and Citizens of the Planet._ \n  \n \n  \n\nToni is offering an EXCLUSIVE VIP MEET & GREET PACKAGE. This exciting opportunity includes one concert ticket within the first row\, a digital copy of Toni Childs’ Greatest Hits two CD set plus a drink backstage before the concert with Toni\, at a special ticket price of $175. There is an allocation of 15 per show and this unique – once in a lifetime – experience can be purchased at the box office. \nEmmy Winner and three-time Grammy nominated recording artist\, Toni is a celebrated singer/songwriter known for her powerful voice\, inspiring independent spirit and crafted storytelling. With fans in over 50 countries around the world\, Toni has produced a list of international hits such as: Don’t Walk Away\, Stop Your Fussin’\, Walk and Talk Like Angels\, Zimbabwe\, Where’s the Ocean\, Many Rivers to Cross\, I’ve Got to Go Now and Because You’re Beautiful\, to name a few. \nOver Toni’s illustrious career she has opened for Bob Dylan and performed duets with greats such as Al Green and Peter Gabriel.  She has toured the world over gaining a much loved fan base. \nThe coming years will see the wider release of two very special albums of music.  First\, ‘It’s All A Beautiful Noise’ and the second ‘Citizens Of The Planet’.  Both releases are a part of two unique 3D Mapping animated shows – two hours of music\, animation and high tech audience engagement. \nRelive your best musical memories with Toni Childs’ – A Retrospective – Live in Concert. \n 
URL:https://tonichilds.com/event/astor-theatre-perth/
LOCATION:Astor Theatre\, 659 Beaufort St\, Mount\, Mount Lawley\, WA\, 6050
CATEGORIES:Concert
ATTACH;FMTTYPE=image/jpeg:https://tonichilds.com/wp-content/uploads/2024/10/IMG_6765-scaled.jpeg
ORGANIZER;CN="Big Mother Entertainment":MAILTO:admin@bigmotherentertainment.com
END:VEVENT
BEGIN:VEVENT
DTSTART;TZID=Australia/Sydney:20250308T193000
DTEND;TZID=Australia/Sydney:20250308T220000
DTSTAMP:20260424T205002
CREATED:20250113T040547Z
LAST-MODIFIED:20250113T040547Z
UID:16073-1741462200-1741471200@tonichilds.com
SUMMARY:Bunbury Regional Entertainment Centre - Bunbury WA
DESCRIPTION:Join the legendary Toni Childs for a special two-hour performance as she celebrates her life’s musical works. Toni will be performing hits and fan favourites from Union\, House of Hope\, the Woman’s Boat and Keep the Faith in the first hour of her show then the second hour will be an introduction to Toni’s new music\, from two very special albums It’s All a Beautiful Noise and Citizens of the Planet._ \n  \n \n  \n\nToni is offering an EXCLUSIVE VIP MEET & GREET PACKAGE. This exciting opportunity includes one concert ticket within the first row\, a digital copy of Toni Childs’ Greatest Hits two CD set plus a drink backstage before the concert with Toni\, at a special ticket price of $175. There is an allocation of 15 per show and this unique – once in a lifetime – experience can be purchased at the box office. \nEmmy Winner and three-time Grammy nominated recording artist\, Toni is a celebrated singer/songwriter known for her powerful voice\, inspiring independent spirit and crafted storytelling. With fans in over 50 countries around the world\, Toni has produced a list of international hits such as: Don’t Walk Away\, Stop Your Fussin’\, Walk and Talk Like Angels\, Zimbabwe\, Where’s the Ocean\, Many Rivers to Cross\, I’ve Got to Go Now and Because You’re Beautiful\, to name a few. \nOver Toni’s illustrious career she has opened for Bob Dylan and performed duets with greats such as Al Green and Peter Gabriel.  She has toured the world over gaining a much loved fan base. \nThe coming years will see the wider release of two very special albums of music.  First\, ‘It’s All A Beautiful Noise’ and the second ‘Citizens Of The Planet’.  Both releases are a part of two unique 3D Mapping animated shows – two hours of music\, animation and high tech audience engagement. \nRelive your best musical memories with Toni Childs’ – A Retrospective – Live in Concert. \n 
URL:https://tonichilds.com/event/bunbury-regional-entertainment-centre-bunbury-wa/
LOCATION:Bunbury Regional Entertainment Centre\, 2 Blair St\, Bunbury WA\, Bunbury\, WA\, 6230\, Australia
CATEGORIES:Concert
ATTACH;FMTTYPE=image/jpeg:https://tonichilds.com/wp-content/uploads/2024/10/IMG_6765-scaled.jpeg
ORGANIZER;CN="Big Mother Entertainment":MAILTO:admin@bigmotherentertainment.com
END:VEVENT
BEGIN:VEVENT
DTSTART;TZID=Australia/Sydney:20250327T193000
DTEND;TZID=Australia/Sydney:20250327T220000
DTSTAMP:20260424T205002
CREATED:20250122T082455Z
LAST-MODIFIED:20250122T082455Z
UID:16093-1743103800-1743112800@tonichilds.com
SUMMARY:Cairns  Performing Arts Centre - Cairns QLD
DESCRIPTION:Join the legendary Toni Childs for a special two-hour performance as she celebrates her life’s musical works. Toni will be performing hits and fan favourites from Union\, House of Hope\, the Woman’s Boat and Keep the Faith in the first hour of her show then the second hour will be an introduction to Toni’s new music\, from two very special albums It’s All a Beautiful Noise and Citizens of the Planet._ \n  \n \n  \n\nToni is offering an EXCLUSIVE VIP MEET & GREET PACKAGE. This exciting opportunity includes one concert ticket within the first row\, a digital copy of Toni Childs’ Greatest Hits two CD set plus a drink backstage before the concert with Toni\, at a special ticket price of $200. There is an allocation of 15 per show and this unique – once in a lifetime – experience can be purchased at the box office. \nEmmy Winner and three-time Grammy nominated recording artist\, Toni is a celebrated singer/songwriter known for her powerful voice\, inspiring independent spirit and crafted storytelling. With fans in over 50 countries around the world\, Toni has produced a list of international hits such as: Don’t Walk Away\, Stop Your Fussin’\, Walk and Talk Like Angels\, Zimbabwe\, Where’s the Ocean\, Many Rivers to Cross\, I’ve Got to Go Now and Because You’re Beautiful\, to name a few. \nOver Toni’s illustrious career she has opened for Bob Dylan and performed duets with greats such as Al Green and Peter Gabriel.  She has toured the world over gaining a much loved fan base. \nThe coming years will see the wider release of two very special albums of music.  First\, ‘It’s All A Beautiful Noise’ and the second ‘Citizens Of The Planet’.  Both releases are a part of two unique 3D Mapping animated shows – two hours of music\, animation and high tech audience engagement. \nRelive your best musical memories with Toni Childs’ – A Retrospective – Live in Concert.
URL:https://tonichilds.com/event/cairns-performing-arts-centre-cairns-qld/
LOCATION:Cairns Performing Arts Centre\, 9-11 Florence St\, Cairns City\, QLD\, 4870\, Australia
CATEGORIES:Concert
ATTACH;FMTTYPE=image/jpeg:https://tonichilds.com/wp-content/uploads/2024/10/IMG_6765-scaled.jpeg
ORGANIZER;CN="Big Mother Entertainment":MAILTO:admin@bigmotherentertainment.com
END:VEVENT
END:VCALENDAR