BEGIN:VCALENDAR
VERSION:2.0
PRODID:-//Toni Childs - ECPv6.15.3//NONSGML v1.0//EN
CALSCALE:GREGORIAN
METHOD:PUBLISH
X-ORIGINAL-URL:https://tonichilds.com
X-WR-CALDESC:Events for Toni Childs
REFRESH-INTERVAL;VALUE=DURATION:PT1H
X-Robots-Tag:noindex
X-PUBLISHED-TTL:PT1H
BEGIN:VTIMEZONE
TZID:Australia/Sydney
BEGIN:STANDARD
TZOFFSETFROM:+1100
TZOFFSETTO:+1000
TZNAME:AEST
DTSTART:20240406T160000
END:STANDARD
BEGIN:DAYLIGHT
TZOFFSETFROM:+1000
TZOFFSETTO:+1100
TZNAME:AEDT
DTSTART:20241005T160000
END:DAYLIGHT
END:VTIMEZONE
BEGIN:VEVENT
DTSTART;TZID=Australia/Sydney:20240705T193000
DTEND;TZID=Australia/Sydney:20240705T220000
DTSTAMP:20260425T084402
CREATED:20240625T043424Z
LAST-MODIFIED:20240625T043711Z
UID:15902-1720207800-1720216800@tonichilds.com
SUMMARY:Jetty Theatre – Coffs Harbour NSW
DESCRIPTION:  \nJoin the legendary Toni Childs for a special two-hour performance as she celebrates her life’s musical works. Toni will be performing hits and fan favourites from Union\, House of Hope\, the Woman’s Boat and Keep the Faith in the first hour of her show then the second hour will be an introduction to Toni’s new music\, from two very special albums It’s All a Beautiful Noise and Citizens of the Planet. \n  \n \n  \nToni is offering an EXCLUSIVE VIP MEET & GREET PACKAGE. This exciting opportunity includes one concert ticket within the first row\, a digital copy of Toni Childs Greatest Hits two CD set plus a drink backstage before the concert with Toni\, at a special ticket price of $175. There is an allocation of 15 per show and this unique once in a lifetime experience can be purchased at the box office. \nEmmy Winner and three-time Grammy nominated recording artist\, Toni is a celebrated singer/songwriter known for her powerful voice\, inspiring independent spirit and crafted storytelling. With fans in over 50 countries around the world\, Toni has produced a list of international hits such as: Don’t Walk Away\, Stop Your Fussin’\, Walk and Talk Like Angels\, Zimbabwe\, Where’s the Ocean\, Many Rivers to Cross\, I’ve Got to Go Now and Because You’re Beautiful\, to name a few. \nOver Toni’s illustrious career she has opened for Bob Dylan and performed duets with greats such as Al Green and Peter Gabriel.  She has toured the world over gaining a much loved fan base. \nThe coming years will see the wider release of two very special albums of music.  First\, ‘It’s All A Beautiful Noise’ and the second ‘Citizens Of The Planet’.  Both releases are a part of two unique 3D Mapping animated shows – two hours of music\, animation and high tech audience engagement. \nRelive your best musical memories with Toni Childs’ Greatest Hits Live in Concert.
URL:https://tonichilds.com/event/jetty-theatre-coffs-harbour-nsw/
LOCATION:Jetty Memorial Theatre\, 337 Harbour Drive\, Coffs Harbour\, NSW\, 2450\, Australia
ATTACH;FMTTYPE=image/jpeg:https://tonichilds.com/wp-content/uploads/2024/04/441549284_984251533066403_3788917511293864102_n.jpg
ORGANIZER;CN="Big Mother Entertainment":MAILTO:admin@bigmotherentertainment.com
END:VEVENT
BEGIN:VEVENT
DTSTART;TZID=Australia/Sydney:20240718T200000
DTEND;TZID=Australia/Sydney:20240718T223000
DTSTAMP:20260425T084402
CREATED:20240625T045137Z
LAST-MODIFIED:20240625T071618Z
UID:15908-1721332800-1721341800@tonichilds.com
SUMMARY:Avoca Beach Theatre – Avoca Beach NSW
DESCRIPTION:  \nJoin the legendary Toni Childs for a special two-hour performance as she celebrates her life’s musical works. Toni will be performing hits and fan favourites from Union\, House of Hope\, the Woman’s Boat and Keep the Faith in the first hour of her show then the second hour will be an introduction to Toni’s new music\, from two very special albums It’s All a Beautiful Noise and Citizens of the Planet. \n  \n \n  \nToni is offering an EXCLUSIVE VIP MEET & GREET PACKAGE. This exciting opportunity includes one concert ticket within the first row\, a digital copy of Toni Childs’ Greatest Hits two CD set plus a drink backstage before the concert with Toni\, at a special ticket price of $175. There is an allocation of 15 per show and this unique – once in a lifetime – experience can be purchased at the box office. \nEmmy Winner and three-time Grammy nominated recording artist\, Toni is a celebrated singer/songwriter known for her powerful voice\, inspiring independent spirit and crafted storytelling. With fans in over 50 countries around the world\, Toni has produced a list of international hits such as: Don’t Walk Away\, Stop Your Fussin’\, Walk and Talk Like Angels\, Zimbabwe\, Where’s the Ocean\, Many Rivers to Cross\, I’ve Got to Go Now and Because You’re Beautiful\, to name a few. \nOver Toni’s illustrious career she has opened for Bob Dylan and performed duets with greats such as Al Green and Peter Gabriel.  She has toured the world over gaining a much loved fan base. \nThe coming years will see the wider release of two very special albums of music.  First\, ‘It’s All A Beautiful Noise’ and the second ‘Citizens Of The Planet’.  Both releases are a part of two unique 3D Mapping animated shows – two hours of music\, animation and high tech audience engagement. \nRelive your best musical memories with Toni Childs’ – A Retrospective – Live in Concert. \n 
URL:https://tonichilds.com/event/avoca-beach-theatre-avoca-beach-nsw/
LOCATION:Avoca Beach Theatre – Avoca NSW\, 69 Avoca Drive\, Avoca Beach\, NSW\, 2251\, Australia
ATTACH;FMTTYPE=image/jpeg:https://tonichilds.com/wp-content/uploads/2024/06/449122075_1012913250200231_2368092505421948968_n-1.jpg
ORGANIZER;CN="Big Mother Entertainment":MAILTO:admin@bigmotherentertainment.com
END:VEVENT
BEGIN:VEVENT
DTSTART;TZID=Australia/Sydney:20240719T200000
DTEND;TZID=Australia/Sydney:20240719T223000
DTSTAMP:20260425T084402
CREATED:20240625T061020Z
LAST-MODIFIED:20240625T071717Z
UID:15944-1721419200-1721428200@tonichilds.com
SUMMARY:Avoca Beach Theatre – Avoca Beach NSW
DESCRIPTION:SOLD OUT\nJoin the legendary Toni Childs for a special two-hour performance as she celebrates her life’s musical works. Toni will be performing hits and fan favourites from Union\, House of Hope\, the Woman’s Boat and Keep the Faith in the first hour of her show then the second hour will be an introduction to Toni’s new music\, from two very special albums It’s All a Beautiful Noise and Citizens of the Planet. \n  \n \n  \nToni is offering an EXCLUSIVE VIP MEET & GREET PACKAGE. This exciting opportunity includes one concert ticket within the first row\, a digital copy of Toni Childs’ Greatest Hits two CD set plus a drink backstage before the concert with Toni\, at a special ticket price of $175. There is an allocation of 15 per show and this unique – once in a lifetime – experience can be purchased at the box office. \nEmmy Winner and three-time Grammy nominated recording artist\, Toni is a celebrated singer/songwriter known for her powerful voice\, inspiring independent spirit and crafted storytelling. With fans in over 50 countries around the world\, Toni has produced a list of international hits such as: Don’t Walk Away\, Stop Your Fussin’\, Walk and Talk Like Angels\, Zimbabwe\, Where’s the Ocean\, Many Rivers to Cross\, I’ve Got to Go Now and Because You’re Beautiful\, to name a few. \nOver Toni’s illustrious career she has opened for Bob Dylan and performed duets with greats such as Al Green and Peter Gabriel.  She has toured the world over gaining a much loved fan base. \nThe coming years will see the wider release of two very special albums of music.  First\, ‘It’s All A Beautiful Noise’ and the second ‘Citizens Of The Planet’.  Both releases are a part of two unique 3D Mapping animated shows – two hours of music\, animation and high tech audience engagement. \nRelive your best musical memories with Toni Childs’ – A Retrospective – Live in Concert. \n 
URL:https://tonichilds.com/event/avoca-beach-theatre-avoca-beach-nsw-2/
LOCATION:Avoca Beach Theatre – Avoca NSW\, 69 Avoca Drive\, Avoca Beach\, NSW\, 2251\, Australia
CATEGORIES:Concert
ATTACH;FMTTYPE=image/jpeg:https://tonichilds.com/wp-content/uploads/2024/04/441549284_984251533066403_3788917511293864102_n.jpg
ORGANIZER;CN="AAA Entertainment":MAILTO:hello@aaaentertainment.com.au
END:VEVENT
BEGIN:VEVENT
DTSTART;TZID=Australia/Sydney:20240720T193000
DTEND;TZID=Australia/Sydney:20240720T220000
DTSTAMP:20260425T084402
CREATED:20240625T051322Z
LAST-MODIFIED:20240625T051322Z
UID:15919-1721503800-1721512800@tonichilds.com
SUMMARY:The Bowraville Theatre – Bowraville NSW
DESCRIPTION:  \nJoin the legendary Toni Childs for a special two-hour performance as she celebrates her life’s musical works. Toni will be performing hits and fan favourites from Union\, House of Hope\, the Woman’s Boat and Keep the Faith in the first hour of her show then the second hour will be an introduction to Toni’s new music\, from two very special albums It’s All a Beautiful Noise and Citizens of the Planet. \n  \n \n  \nToni is offering an EXCLUSIVE VIP MEET & GREET PACKAGE. This exciting opportunity includes one concert ticket within the first row\, a digital copy of Toni Childs’ Greatest Hits two CD set plus a drink backstage before the concert with Toni\, at a special ticket price of $175. There is an allocation of 15 per show and this unique – once in a lifetime – experience can be purchased at the box office. \nEmmy Winner and three-time Grammy nominated recording artist\, Toni is a celebrated singer/songwriter known for her powerful voice\, inspiring independent spirit and crafted storytelling. With fans in over 50 countries around the world\, Toni has produced a list of international hits such as: Don’t Walk Away\, Stop Your Fussin’\, Walk and Talk Like Angels\, Zimbabwe\, Where’s the Ocean\, Many Rivers to Cross\, I’ve Got to Go Now and Because You’re Beautiful\, to name a few. \nOver Toni’s illustrious career she has opened for Bob Dylan and performed duets with greats such as Al Green and Peter Gabriel.  She has toured the world over gaining a much loved fan base. \nThe coming years will see the wider release of two very special albums of music.  First\, ‘It’s All A Beautiful Noise’ and the second ‘Citizens Of The Planet’.  Both releases are a part of two unique 3D Mapping animated shows – two hours of music\, animation and high tech audience engagement. \nRelive your best musical memories with Toni Childs’ – A Retrospective – Live in Concert. \n 
URL:https://tonichilds.com/event/the-bowraville-theatre-bowraville-nsw/
LOCATION:Bowraville Theatre\, 74 High Street\, Bowraville\, NSW\, 2449
ATTACH;FMTTYPE=image/jpeg:https://tonichilds.com/wp-content/uploads/2024/04/441549284_984251533066403_3788917511293864102_n.jpg
ORGANIZER;CN="AAA Entertainment":MAILTO:hello@aaaentertainment.com.au
END:VEVENT
END:VCALENDAR