BEGIN:VCALENDAR
VERSION:2.0
PRODID:-//Toni Childs - ECPv6.15.3//NONSGML v1.0//EN
CALSCALE:GREGORIAN
METHOD:PUBLISH
X-ORIGINAL-URL:https://tonichilds.com
X-WR-CALDESC:Events for Toni Childs
REFRESH-INTERVAL;VALUE=DURATION:PT1H
X-Robots-Tag:noindex
X-PUBLISHED-TTL:PT1H
BEGIN:VTIMEZONE
TZID:Australia/Sydney
BEGIN:STANDARD
TZOFFSETFROM:+1100
TZOFFSETTO:+1000
TZNAME:AEST
DTSTART:20230401T160000
END:STANDARD
BEGIN:DAYLIGHT
TZOFFSETFROM:+1000
TZOFFSETTO:+1100
TZNAME:AEDT
DTSTART:20230930T160000
END:DAYLIGHT
END:VTIMEZONE
BEGIN:VEVENT
DTSTART;TZID=Australia/Sydney:20231102T180000
DTEND;TZID=Australia/Sydney:20231102T223000
DTSTAMP:20260425T211019
CREATED:20230124T025418Z
LAST-MODIFIED:20230124T031430Z
UID:15224-1698948000-1698964200@tonichilds.com
SUMMARY:The Corrs Down Under
DESCRIPTION:
URL:https://tonichilds.com/event/the-corrs-down-under-tour-3/
LOCATION:Entertainment Centre\, ADELAIDE\, 98 Port Rd\, SA\, Adelaide\, SA\, 5007\, Australia
CATEGORIES:Concert
ATTACH;FMTTYPE=image/png:https://tonichilds.com/wp-content/uploads/2023/01/AU-ONLY-Corrs-DU23-1mb-WEB-e1674525515412.png
END:VEVENT
BEGIN:VEVENT
DTSTART;TZID=Australia/Sydney:20231104T180000
DTEND;TZID=Australia/Sydney:20231104T223000
DTSTAMP:20260425T211019
CREATED:20230124T022814Z
LAST-MODIFIED:20230124T031420Z
UID:15211-1699120800-1699137000@tonichilds.com
SUMMARY:The Corrs Down Under
DESCRIPTION:
URL:https://tonichilds.com/event/the-corrs-down-under-tour-2023/
LOCATION:UTAS Stadium\, LAUNCESTON\, 2 Invermay Rd\,\, Invermay\, TAS\, 7248\, Australia
CATEGORIES:Concert
ATTACH;FMTTYPE=image/png:https://tonichilds.com/wp-content/uploads/2023/01/AU-ONLY-Corrs-DU23-1mb-WEB-e1674525515412.png
END:VEVENT
BEGIN:VEVENT
DTSTART;TZID=Australia/Sydney:20231106T180000
DTEND;TZID=Australia/Sydney:20231106T223000
DTSTAMP:20260425T211019
CREATED:20230124T030250Z
LAST-MODIFIED:20230124T030317Z
UID:15227-1699293600-1699309800@tonichilds.com
SUMMARY:The Corrs Down Under
DESCRIPTION:
URL:https://tonichilds.com/event/the-corrs-down-under-tour-4/
LOCATION:Rod Laver Arena\, MELBOURNE\, Olympic Blvd\, Melbourne\, VIC\, 3001\, Australia
CATEGORIES:Concert
ATTACH;FMTTYPE=image/png:https://tonichilds.com/wp-content/uploads/2023/01/AU-ONLY-Corrs-DU23-1mb-WEB-e1674525515412.png
END:VEVENT
BEGIN:VEVENT
DTSTART;TZID=Australia/Sydney:20231109T180000
DTEND;TZID=Australia/Sydney:20231109T223000
DTSTAMP:20260425T211019
CREATED:20230124T030817Z
LAST-MODIFIED:20230124T032853Z
UID:15231-1699552800-1699569000@tonichilds.com
SUMMARY:The Corrs Down Under
DESCRIPTION:
URL:https://tonichilds.com/event/the-corrs-down-under-2/
LOCATION:Spark Arena\, AUCKLAND\, 42/80 Mahuhu Crescent\,\, Auckland\, Parnell\, 1010\, New Zealand
CATEGORIES:Concert
ATTACH;FMTTYPE=image/png:https://tonichilds.com/wp-content/uploads/2023/01/AU-ONLY-Corrs-DU23-1mb-WEB-e1674525515412.png
END:VEVENT
BEGIN:VEVENT
DTSTART;TZID=Australia/Sydney:20231111T180000
DTEND;TZID=Australia/Sydney:20231111T220000
DTSTAMP:20260425T211019
CREATED:20230124T031230Z
LAST-MODIFIED:20230124T031347Z
UID:15234-1699725600-1699740000@tonichilds.com
SUMMARY:The Corrs Down Under
DESCRIPTION:
URL:https://tonichilds.com/event/corrs-down-under/
LOCATION:Hagley Park\, CHRISTCHURCH\, 14 Riccarton Avenue\, 8011\, Christchurch\, South Island\, 8011\, New Zealand
CATEGORIES:Concert
ATTACH;FMTTYPE=image/png:https://tonichilds.com/wp-content/uploads/2023/01/AU-ONLY-Corrs-DU23-1mb-WEB-e1674525515412.png
END:VEVENT
END:VCALENDAR