BEGIN:VCALENDAR
VERSION:2.0
PRODID:-//Toni Childs - ECPv6.15.3//NONSGML v1.0//EN
CALSCALE:GREGORIAN
METHOD:PUBLISH
X-ORIGINAL-URL:https://tonichilds.com
X-WR-CALDESC:Events for Toni Childs
REFRESH-INTERVAL;VALUE=DURATION:PT1H
X-Robots-Tag:noindex
X-PUBLISHED-TTL:PT1H
BEGIN:VTIMEZONE
TZID:Australia/Sydney
BEGIN:STANDARD
TZOFFSETFROM:+1100
TZOFFSETTO:+1000
TZNAME:AEST
DTSTART:20230401T160000
END:STANDARD
BEGIN:DAYLIGHT
TZOFFSETFROM:+1000
TZOFFSETTO:+1100
TZNAME:AEDT
DTSTART:20230930T160000
END:DAYLIGHT
END:VTIMEZONE
BEGIN:VEVENT
DTSTART;TZID=Australia/Sydney:20231006T193000
DTEND;TZID=Australia/Sydney:20231006T223000
DTSTAMP:20260425T223908
CREATED:20230713T031343Z
LAST-MODIFIED:20230715T004513Z
UID:15392-1696620600-1696631400@tonichilds.com
SUMMARY:Albury Entertainment Centre – ALBURY\, NSW
DESCRIPTION:Join the legendary Toni Childs for a special two-hour performance as she celebrates her life’s musical works. Toni will be performing hits and fan favourites from Union\, House of Hope\, the Woman’s Boat and Keep the Faith in the first hour of her show then the second hour will be an introduction to Toni’s new music\, from two very special albums It’s All a Beautiful Noise and Citizens of the Planet. \n  \n \n  \nToni is offering an EXCLUSIVE VIP MEET & GREET PACKAGE. This exciting opportunity includes one concert ticket within the first row\, a digital copy of Toni Childs Greatest Hits two CD set plus a drink backstage before the concert with Toni\, at a special ticket price of $175. There is an allocation of 15 per show and this unique once in a lifetime experience can be purchased at the box office. \nEmmy Winner and three-time Grammy nominated recording artist\, Toni is a celebrated singer/songwriter known for her powerful voice\, inspiring independent spirit and crafted storytelling. With fans in over 50 countries around the world\, Toni has produced a list of international hits such as: Don’t Walk Away\, Stop Your Fussin’\, Walk and Talk Like Angels\, Zimbabwe\, Where’s the Ocean\, Many Rivers to Cross\, I’ve Got to Go Now and Because You’re Beautiful\, to name a few. \nOver Toni’s illustrious career she has opened for Bob Dylan and performed duets with greats such as Al Green and Peter Gabriel.  She has toured the world over gaining a much loved fan base. \nThe coming years will see the wider release of two very special albums of music.  First\, ‘It’s All A Beautiful Noise’ and the second ‘Citizens Of The Planet’.  Both releases are a part of two unique 3D Mapping animated shows – two hours of music\, animation and high tech audience engagement. \n 
URL:https://tonichilds.com/event/albury-entertainment-centre-albury-nsw/
LOCATION:Albury Entertainment Centre – ALBURY\, NSW\, 525 Swift St\, Albury\, NSW\, 2640\, Australia
CATEGORIES:Concert
ATTACH;FMTTYPE=image/jpeg:https://tonichilds.com/wp-content/uploads/2020/01/Toni-Toowoomba-Orange-Light-scaled-e1674531043292.jpg
ORGANIZER;CN="Big Mother Entertainment":MAILTO:admin@bigmotherentertainment.com
END:VEVENT
BEGIN:VEVENT
DTSTART;TZID=Australia/Sydney:20231025T180000
DTEND;TZID=Australia/Sydney:20231025T223000
DTSTAMP:20260425T223908
CREATED:20230124T024247Z
LAST-MODIFIED:20230124T031509Z
UID:15218-1698256800-1698273000@tonichilds.com
SUMMARY:The Corrs Down Under
DESCRIPTION:
URL:https://tonichilds.com/event/the-corrs-down-under-tour-2/
LOCATION:RAC Arena\, PERTH\, 700 Wellington St\, Perth\, WA\, 6000\, Australia
CATEGORIES:Concert
ATTACH;FMTTYPE=image/png:https://tonichilds.com/wp-content/uploads/2023/01/AU-ONLY-Corrs-DU23-1mb-WEB-e1674525515412.png
END:VEVENT
BEGIN:VEVENT
DTSTART;TZID=Australia/Sydney:20231028T180000
DTEND;TZID=Australia/Sydney:20231028T223000
DTSTAMP:20260425T223908
CREATED:20230124T021409Z
LAST-MODIFIED:20230124T031455Z
UID:15202-1698516000-1698532200@tonichilds.com
SUMMARY:The Corrs Down Under
DESCRIPTION:
URL:https://tonichilds.com/event/the-corrs-down-under-tour/
LOCATION:Sandstone Point\, BRIBIE ISLAND\, 1800 Bribie Island Road\, Sandstone Point\, QLD\, 4511\, Australia
CATEGORIES:Concert
ATTACH;FMTTYPE=image/png:https://tonichilds.com/wp-content/uploads/2023/01/AU-ONLY-Corrs-DU23-1mb-WEB-e1674525515412.png
END:VEVENT
BEGIN:VEVENT
DTSTART;TZID=Australia/Sydney:20231029T180000
DTEND;TZID=Australia/Sydney:20231029T233000
DTSTAMP:20260425T223908
CREATED:20230124T015437Z
LAST-MODIFIED:20230124T031443Z
UID:15195-1698602400-1698622200@tonichilds.com
SUMMARY:The Corrs Down Under
DESCRIPTION:
URL:https://tonichilds.com/event/corrs-down-under-tour/
LOCATION:Aware Super Theatre\, SYDNEY\, 14 Darling Dr\, 2000\, Sydney\, NSW\, 2000
CATEGORIES:Concert
ATTACH;FMTTYPE=image/png:https://tonichilds.com/wp-content/uploads/2023/01/AU-ONLY-Corrs-DU23-1mb-WEB-e1674525515412.png
END:VEVENT
BEGIN:VEVENT
DTSTART;TZID=Australia/Sydney:20231031T180000
DTEND;TZID=Australia/Sydney:20231031T223000
DTSTAMP:20260425T223908
CREATED:20230124T024934Z
LAST-MODIFIED:20230124T024934Z
UID:15222-1698775200-1698791400@tonichilds.com
SUMMARY:The Corrs Down Under
DESCRIPTION:
URL:https://tonichilds.com/event/the-corrs-down-under/
LOCATION:Entertainment Centre\, NEWCASTLE\, Showground\, Brown Rd\, Broadmeadow NSW\, Broadmeadow\, NSW\, 2292\, Australia
CATEGORIES:Concert
ATTACH;FMTTYPE=image/png:https://tonichilds.com/wp-content/uploads/2023/01/AU-ONLY-Corrs-DU23-1mb-WEB-e1674525515412.png
END:VEVENT
END:VCALENDAR