BEGIN:VCALENDAR
VERSION:2.0
PRODID:-//Toni Childs - ECPv6.15.3//NONSGML v1.0//EN
CALSCALE:GREGORIAN
METHOD:PUBLISH
X-WR-CALNAME:Toni Childs
X-ORIGINAL-URL:https://tonichilds.com
X-WR-CALDESC:Events for Toni Childs
REFRESH-INTERVAL;VALUE=DURATION:PT1H
X-Robots-Tag:noindex
X-PUBLISHED-TTL:PT1H
BEGIN:VTIMEZONE
TZID:Australia/Adelaide
BEGIN:STANDARD
TZOFFSETFROM:+1030
TZOFFSETTO:+0930
TZNAME:ACST
DTSTART:20230401T163000
END:STANDARD
BEGIN:DAYLIGHT
TZOFFSETFROM:+0930
TZOFFSETTO:+1030
TZNAME:ACDT
DTSTART:20230930T163000
END:DAYLIGHT
END:VTIMEZONE
BEGIN:VTIMEZONE
TZID:Australia/Sydney
BEGIN:STANDARD
TZOFFSETFROM:+1100
TZOFFSETTO:+1000
TZNAME:AEST
DTSTART:20230401T160000
END:STANDARD
BEGIN:DAYLIGHT
TZOFFSETFROM:+1000
TZOFFSETTO:+1100
TZNAME:AEDT
DTSTART:20230930T160000
END:DAYLIGHT
END:VTIMEZONE
BEGIN:VEVENT
DTSTART;TZID=Australia/Adelaide:20230406T193000
DTEND;TZID=Australia/Adelaide:20230406T220000
DTSTAMP:20260426T072617
CREATED:20220715T071213Z
LAST-MODIFIED:20230125T052350Z
UID:14976-1680809400-1680818400@tonichilds.com
SUMMARY:Whyalla\, Middleback Arts Centre
DESCRIPTION:Middleback Arts Centre \nmehr informationen bekommen\nOn Sale Now… \nJoin the legendary Toni Childs for a special two-hour performance as she celebrates her life’s musical works. Toni will be performing hits and fan favourites from Union\, House of Hope\, the Woman’s Boat and Keep the Faith in the first hour of her show then the second hour will be an introduction to Toni’s new music\, from two very special albums It’s All a Beautiful Noise and Citizens of the Planet. \nToni is offering an EXCLUSIVE VIP MEET & GREET PACKAGE. This exciting opportunity includes one concert ticket within the first row\, a digital copy of Toni Childs Greatest Hits two CD set plus a drink backstage after the concert with Toni\, at a special ticket price of $175.  There is an allocation of 15 per show and this unique once in a lifetime experience can be purchased at the box office. \n\n\n \n\n\n\n  \n \n  \nEmmy Winner and three-time Grammy nominated recording artist\, Toni is a celebrated singer/songwriter known for her powerful voice\, inspiring independent spirit and crafted storytelling. With fans in over 50 countries around the world\, Toni has produced a list of international hits such as: Don’t Walk Away\, Stop Your Fussin’\, Walk and Talk Like Angels\, Zimbabwe\, Where’s the Ocean\, Many Rivers to Cross\, I’ve Got to Go Now and Because You’re Beautiful\, to name a few. \nOver Toni’s illustrious career she has opened for Bob Dylan and performed duets with greats such as Al Green and Peter Gabriel.  She has toured the world over gaining a much loved fan base. \nThe coming years will see the wider release of two very special albums of music.  First\, ‘It’s All A Beautiful Noise’ and the second ‘Citizens Of The Planet’.  Both releases are a part of two unique 3D Mapping animated shows – two hours of music\, animation and high tech audience engagement. \nRelive your best musical memories with Toni Childs’ Greatest Hits Live in Concert.
URL:https://tonichilds.com/event/whyalla-middleback-arts-centre/
LOCATION:Middleback Arts Centre\, 141A Nicolson Ave\, Whyalla\, SA\, 5608\, Australia
CATEGORIES:Concert
ATTACH;FMTTYPE=image/jpeg:https://tonichilds.com/wp-content/uploads/2020/01/Toni-Toowoomba-Orange-Light-scaled-e1674531043292.jpg
ORGANIZER;CN="Big Mother Entertainment":MAILTO:admin@bigmotherentertainment.com
END:VEVENT
BEGIN:VEVENT
DTSTART;TZID=Australia/Adelaide:20230408T193000
DTEND;TZID=Australia/Adelaide:20230408T220000
DTSTAMP:20260426T072617
CREATED:20220715T065923Z
LAST-MODIFIED:20230125T052600Z
UID:14967-1680982200-1680991200@tonichilds.com
SUMMARY:Northern Festival Port Pirie
DESCRIPTION:Northern Festival \nOn Sale Now… \nJoin the legendary Toni Childs for a special two-hour performance as she celebrates her life’s musical works. Toni will be performing hits and fan favourites from Union\, House of Hope\, the Woman’s Boat and Keep the Faith in the first hour of her show then the second hour will be an introduction to Toni’s new music\, from two very special albums It’s All a Beautiful Noise and Citizens of the Planet. \nfarmbrazil.com.br \nToni is offering an EXCLUSIVE VIP MEET & GREET PACKAGE. This exciting opportunity includes one concert ticket within the first row\, a digital copy of Toni Childs Greatest Hits two CD set plus a drink backstage after the concert with Toni\, at a special ticket price of $175.  There is an allocation of 15 per show and this unique once in a lifetime experience can be purchased at the box office. \n\n\nmoja spletna stran\n  \n \n  \nEmmy Winner and three-time Grammy nominated recording artist\, Toni is a celebrated singer/songwriter known for her powerful voice\, inspiring independent spirit and crafted storytelling. With fans in over 50 countries around the world\, Toni has produced a list of international hits such as: Don’t Walk Away\, Stop Your Fussin’\, Walk and Talk Like Angels\, Zimbabwe\, Where’s the Ocean\, Many Rivers to Cross\, I’ve Got to Go Now and Because You’re Beautiful\, to name a few. \nOver Toni’s illustrious career she has opened for Bob Dylan and performed duets with greats such as Al Green and Peter Gabriel.  She has toured the world over gaining a much loved fan base. \nThe coming years will see the wider release of two very special albums of music.  First\, ‘It’s All A Beautiful Noise’ and the second ‘Citizens Of The Planet’.  Both releases are a part of two unique 3D Mapping animated shows – two hours of music\, animation and high tech audience engagement. \nRelive your best musical memories with Toni Childs’ Greatest Hits Live in Concert.
URL:https://tonichilds.com/event/northern-festival-port-pirie/
LOCATION:Northern Festival Port Pirie\, 106 Gertrude St\, Port Pirie\, SA\, 5540\, Australia
CATEGORIES:Concert
ATTACH;FMTTYPE=image/jpeg:https://tonichilds.com/wp-content/uploads/2020/01/Toni-Toowoomba-Orange-Light-scaled-e1674531043292.jpg
ORGANIZER;CN="Big Mother Entertainment":MAILTO:admin@bigmotherentertainment.com
END:VEVENT
BEGIN:VEVENT
DTSTART;TZID=Australia/Sydney:20230422T193000
DTEND;TZID=Australia/Sydney:20230422T220000
DTSTAMP:20260426T072617
CREATED:20230327T045423Z
LAST-MODIFIED:20230327T050501Z
UID:15287-1682191800-1682200800@tonichilds.com
SUMMARY:Bundaberg - Moncrieff Entertainment Centre
DESCRIPTION:Join the legendary Toni Childs for a special two-hour performance as she celebrates her life’s musical works. Toni will be performing hits and fan favourites from Union\, House of Hope\, the Woman’s Boat and Keep the Faith in the first hour of her show then the second hour will be an introduction to Toni’s new music\, from two very special albums It’s All a Beautiful Noise and Citizens of the Planet. \n  \n \nslovenska-lekaren.com \nμπορείτε να βρείτε σε αυτή τη σελίδα \n  \nToni is offering an EXCLUSIVE VIP MEET & GREET PACKAGE. This exciting opportunity includes one concert ticket within the first row\, a digital copy of Toni Childs Greatest Hits two CD set plus a drink backstage before the concert with Toni\, at a special ticket price of $175.  There is an allocation of 16 per show and this unique once in a lifetime experience can be purchased at the box office. \n  \n  \n \n  \nEmmy Winner and three-time Grammy nominated recording artist\, Toni is a celebrated singer/songwriter known for her powerful voice\, inspiring independent spirit and crafted storytelling. With fans in over 50 countries around the world\, Toni has produced a list of international hits such as: Don’t Walk Away\, Stop Your Fussin’\, Walk and Talk Like Angels\, Zimbabwe\, Where’s the Ocean\, Many Rivers to Cross\, I’ve Got to Go Now and Because You’re Beautiful\, to name a few. \nOver Toni’s illustrious career she has opened for Bob Dylan and performed duets with greats such as Al Green and Peter Gabriel.  She has toured the world over gaining a much loved fan base. \nThe coming years will see the wider release of two very special albums of music.  First\, ‘It’s All A Beautiful Noise’ and the second ‘Citizens Of The Planet’.  Both releases are a part of two unique 3D Mapping animated shows – two hours of music\, animation and high tech audience engagement. \nRelive your best musical memories with Toni Childs’ Greatest Hits Live in Concert.
URL:https://tonichilds.com/event/bundaberg-moncrieff-entertainment-centre/
LOCATION:Bundaberg – Moncrieff Entertainment Centre\, 177 Bourbong Street Bundaberg\, Bundaberg\, QLD\, 4670\, Australia
CATEGORIES:Concert
ATTACH;FMTTYPE=image/jpeg:https://tonichilds.com/wp-content/uploads/2020/01/Toni-Toowoomba-Orange-Light-scaled-e1674531043292.jpg
ORGANIZER;CN="Big Mother Entertainment":MAILTO:admin@bigmotherentertainment.com
END:VEVENT
BEGIN:VEVENT
DTSTART;TZID=Australia/Sydney:20230428T193000
DTEND;TZID=Australia/Sydney:20230428T220000
DTSTAMP:20260426T072617
CREATED:20230327T043926Z
LAST-MODIFIED:20230327T050847Z
UID:15277-1682710200-1682719200@tonichilds.com
SUMMARY:Gladstone Entertainment Convention Centre
DESCRIPTION:Gladstone Entertainment Convention Centre \nJoin the legendary Toni Childs for a special two-hour performance as she celebrates her life’s musical works. Toni will be performing hits and fan favourites from Union\, House of Hope\, the Woman’s Boat and Keep the Faith in the first hour of her show then the second hour will be an introduction to Toni’s new music\, from two very special albums It’s All a Beautiful Noise and Citizens of the Planet. \n  \n \n  \nToni is offering an EXCLUSIVE VIP MEET & GREET PACKAGE. This exciting opportunity includes one concert ticket within the first row\, a digital copy of Toni Childs Greatest Hits two CD set plus a drink backstage after the concert with Toni\, at a special ticket price of $175.  There is an allocation of 15 per show and this unique once in a lifetime experience can be purchased at the box office. \n  \n \n  \nEmmy Winner and three-time Grammy nominated recording artist\, Toni is a celebrated singer/songwriter known for her powerful voice\, inspiring independent spirit and crafted storytelling. With fans in over 50 countries around the world\, Toni has produced a list of international hits such as: Don’t Walk Away\, Stop Your Fussin’\, Walk and Talk Like Angels\, Zimbabwe\, Where’s the Ocean\, Many Rivers to Cross\, I’ve Got to Go Now and Because You’re Beautiful\, to name a few. \nOver Toni’s illustrious career she has opened for Bob Dylan and performed duets with greats such as Al Green and Peter Gabriel.  She has toured the world over gaining a much loved fan base. \nThe coming years will see the wider release of two very special albums of music.  First\, ‘It’s All A Beautiful Noise’ and the second ‘Citizens Of The Planet’.  Both releases are a part of two unique 3D Mapping animated shows – two hours of music\, animation and high tech audience engagement. \nRelive your best musical memories with Toni Childs’ Greatest Hits Live in Concert.
URL:https://tonichilds.com/event/gladstone-entertainment-convention-centre-2/
LOCATION:Gladstone Entertainment Convention Centre\, 56 Goondoon Street\, Gladstone\, QLD\, 4680\, Australia
CATEGORIES:Concert
ATTACH;FMTTYPE=image/jpeg:https://tonichilds.com/wp-content/uploads/2020/01/Toni-Toowoomba-Orange-Light-scaled-e1674531043292.jpg
ORGANIZER;CN="Big Mother Entertainment":MAILTO:admin@bigmotherentertainment.com
END:VEVENT
END:VCALENDAR