BEGIN:VCALENDAR
VERSION:2.0
PRODID:-//Toni Childs - ECPv6.15.3//NONSGML v1.0//EN
CALSCALE:GREGORIAN
METHOD:PUBLISH
X-WR-CALNAME:Toni Childs
X-ORIGINAL-URL:https://tonichilds.com
X-WR-CALDESC:Events for Toni Childs
REFRESH-INTERVAL;VALUE=DURATION:PT1H
X-Robots-Tag:noindex
X-PUBLISHED-TTL:PT1H
BEGIN:VTIMEZONE
TZID:Australia/Sydney
BEGIN:STANDARD
TZOFFSETFROM:+1100
TZOFFSETTO:+1000
TZNAME:AEST
DTSTART:20260404T160000
END:STANDARD
BEGIN:DAYLIGHT
TZOFFSETFROM:+1000
TZOFFSETTO:+1100
TZNAME:AEDT
DTSTART:20261003T160000
END:DAYLIGHT
END:VTIMEZONE
BEGIN:VEVENT
DTSTART;TZID=Australia/Sydney:20260502T193000
DTEND;TZID=Australia/Sydney:20260502T220000
DTSTAMP:20260424T042725
CREATED:20260103T020649Z
LAST-MODIFIED:20260103T025339Z
UID:16232-1777750200-1777759200@tonichilds.com
SUMMARY:St Paul’s Presbyterian Church - Brisbane\, QLD
DESCRIPTION:TONI CHILDS Featuring Tayla-Lee- OPENING SHOW of the “SIGNATURE SERIES” \nExperience an Unforgettable Night of Soul\, Power & Storytelling\nJoin us for the electrifying opening show of the “Signature Series” as the legendary TONI CHILDS takes to the stage — joined by TAYLA LEE \nAn Emmy Winner and three-time Grammy-nominated recording artist\, Toni Childs is celebrated worldwide for her powerful voice\, fearless spirit\, and deeply crafted storytelling. With fans in over 50 countries\, Toni’s timeless hits — including “Don’t Walk Away\,” “Stop Your Fussin’\,” “Walk and Talk Like Angels\,” “Zimbabwe\,” “Where’s the Ocean\,” “I’ve Got to Go Now\,” and “Because You’re Beautiful” — have become anthems for generations of listeners. \nSupported by Tayla-Lee\, who’s eclectic sound of country and soul uses her voice to speak up for others\, Tayla Lee has supported artists such as SATSAN (USA) and The McCredie Brothers (Australia) and opened high profile shows including Surfers Paradise LIVE\, and the Gold Coast Show in 2024 & 2025. Tayla Lee’s single “United Souls”\, speaks up about domestic violence and racial discrimination and was worked with an Indigenous elder from the Gold Coast. Tayla-Lee’s sound will leave you feeling chilled yet elevated at the same time \nDon’t miss this extraordinary night of world-class music\, emotion\, and artistry — the show that sets the tone for the entire “Signature Series”.\nProudly presented by AEM Creative Agency
URL:https://tonichilds.com/event/st-pauls-presbyterian-church-brisbane-qld/
LOCATION:St Paul’s Presbyterian Church\, 43 St Pauls Ter\, Spring Hill\, QLD\, 4000\, Australia
CATEGORIES:Concert
ATTACH;FMTTYPE=image/jpeg:https://tonichilds.com/wp-content/uploads/2024/04/441549284_984251533066403_3788917511293864102_n.jpg
END:VEVENT
BEGIN:VEVENT
DTSTART;TZID=Australia/Sydney:20260605T193000
DTEND;TZID=Australia/Sydney:20260605T220000
DTSTAMP:20260424T042725
CREATED:20260313T224740Z
LAST-MODIFIED:20260313T224740Z
UID:16316-1780687800-1780696800@tonichilds.com
SUMMARY:Capital Theatre - Tamworth\, NSW
DESCRIPTION:Toni Childs\, Emmy Winner and three-time Grammy nominated recording artist with fans in over 50 countries around the world is back in Canada presenting a special two-hour performance celebrating her life’s musical work in song and story. \nToni is a celebrated artist known for her powerful voice\, independent spirit and crafted storytelling. You definitely do not want to miss what she’s bringing. \n“Get ready beauties\, I am coming to love you up!! I’m coming to make serious love to all of you with your clothes on.  And by God\, don’t we need more love to offset the darkness creeping across the world. \nAnd just so you know\, the love I bring\, you better believe has swagger and power and groove\, and is a true reset of positivity!”  Toni Childs \nIn the first hour\, Toni performs hits and fan favorites from Union\, House of Hope\, the Woman’s Boat and Keep the Faith. And in the second hour she performs a tasting of her new music from three powerful out-of-the-box productions: It’s All a Beautiful Noise\, Reef 360 and Citizens of the Planet. \nToni’s international hits include: Don’t Walk Away\, Stop Your Fussin’\, Walk and Talk Like Angels\, Zimbabwe\, Where’s the Ocean\, Many Rivers to Cross\, I’ve Got to Go Now and Because You’re Beautiful\, to name a few. \nOver Toni’s illustrious career she has opened for Bob Dylan and performed duets with greats such as Al Green and Peter Gabriel. She has toured the world over gaining a much-loved fan base. \nToni is offering an EXCLUSIVE VIP MEET & GREET PACKAGE. This exciting opportunity includes one concert ticket within the first row\, a digital copy of Toni Childs Greatest Hits double album set plus a drink backstage before the concert with Toni\, at a special ticket price of $179. Only 16 tickets available for Toni’s meet and greet! \nYou do not want to miss this very soul inspiring Greatest Hits Live – It’s Toni’s bitter-sweet chocolate box of memories! \nHere’s what recent audiences in Australia had to say about The Toni Childs Retrospective: \n“Beautiful woman! I watch her concerts as often as I can. Each time\, beyond fabulous! We are so very blessed to have this stunning\, talented woman in our country. Bless her x!!”  Jacinta Christian 2025 \n“Truly amazing. I was in tears 3 times at the Cairns concert. Never have I felt such emotions at a concert before.”  Tracy Clark 2025 \n“Your music is a gift to us all! Keep sharing your beautiful voice and spreading love and positivity. Can’t wait to see what’s next!”   Julie Jones 2025 \n“Last night we saw Toni Childs in Cairns Australia\, and it was the best concert I’ve seen in decades. The last time I saw Toni in Concert was in 1994 in Sydney. From memory it too was great\, but it was oh so long ago. \nThis year Toni turns 68 so admittedly\, I was nervous because many of your favorite artist voices decline as they get much older. But smack my ass and call me Sally because she was absolutely extraordinary! Toni proved she still has that signature voice. By just the second song I knew this is going to be a great night. Her on stage energy was electric as was the audience engagement. She walked amongst the audience several times whilst singing hi-fiving people\, hugging some & sitting on some people’s lap. It was funny & entertaining. \nBut after a few of her classic hits\, that dreaded line you usually hear when your favorite artist says\, “I’m going to do some of my new music”. This of course is almost always followed by a polite albeit small round of applause. But alas\, smack my ass again\, but this time harder\, as after the first new song the audience rose to their feet & cheered & whistled with such enthusiasm & this continued on throughout the night.  \nI would strongly recommend you see this show if Toni comes to your area\, or if you are visiting a city she is touring. As Molly Meldrum would say “Do yourself a favor\, and see her in Concert.”   Dwain 2025 \n“Brilliant night in Geelong Toni Childs you have lost nothing in your amazing vocals\, it was a wonderful night filled with that amazing voice\, never stop believing!” Julie Campbell 2025 \n“Thoroughly enjoyed your show in Bunbury last night – loving your new direction. Your voice is as incredible as it was 40 years ago”.   Alexis Ward 2025
URL:https://tonichilds.com/event/capital-theatre-tamworth-nsw/
LOCATION:Capitol Theatre Tamworth\, entrepoint\, 374 Peel St\, Tamworth\, NSW\, 2340\, Australia
CATEGORIES:Concert
ATTACH;FMTTYPE=image/jpeg:https://tonichilds.com/wp-content/uploads/2024/04/441549284_984251533066403_3788917511293864102_n.jpg
ORGANIZER;CN="Big Mother Entertainment":MAILTO:admin@bigmotherentertainment.com
END:VEVENT
BEGIN:VEVENT
DTSTART;TZID=Australia/Sydney:20260620T193000
DTEND;TZID=Australia/Sydney:20260620T220000
DTSTAMP:20260424T042725
CREATED:20260313T111252Z
LAST-MODIFIED:20260313T230131Z
UID:16312-1781983800-1781992800@tonichilds.com
SUMMARY:The Art House - Wyong\, NSW
DESCRIPTION:Toni Childs\, Emmy Winner and three-time Grammy nominated recording artist with fans in over 50 countries around the world is back in Canada presenting a special two-hour performance celebrating her life’s musical work in song and story. \nToni is a celebrated artist known for her powerful voice\, independent spirit and crafted storytelling. You definitely do not want to miss what she’s bringing. \n“Get ready beauties\, I am coming to love you up!! I’m coming to make serious love to all of you with your clothes on.  And by God\, don’t we need more love to offset the darkness creeping across the world. \nAnd just so you know\, the love I bring\, you better believe has swagger and power and groove\, and is a true reset of positivity!”  Toni Childs \nIn the first hour\, Toni performs hits and fan favorites from Union\, House of Hope\, the Woman’s Boat and Keep the Faith. And in the second hour she performs a tasting of her new music from three powerful out-of-the-box productions: It’s All a Beautiful Noise\, Reef 360 and Citizens of the Planet. \nToni’s international hits include: Don’t Walk Away\, Stop Your Fussin’\, Walk and Talk Like Angels\, Zimbabwe\, Where’s the Ocean\, Many Rivers to Cross\, I’ve Got to Go Now and Because You’re Beautiful\, to name a few. \nOver Toni’s illustrious career she has opened for Bob Dylan and performed duets with greats such as Al Green and Peter Gabriel. She has toured the world over gaining a much-loved fan base. \nToni is offering an EXCLUSIVE VIP MEET & GREET PACKAGE. This exciting opportunity includes one concert ticket within the first row\, a digital copy of Toni Childs Greatest Hits double album set plus a drink backstage before the concert with Toni\, at a special ticket price of $189. Only 16 tickets available for Toni’s meet and greet! \nYou do not want to miss this very soul inspiring Greatest Hits Live – It’s Toni’s bitter-sweet chocolate box of memories! \nHere’s what recent audiences in Australia had to say about The Toni Childs Retrospective: \n“Beautiful woman! I watch her concerts as often as I can. Each time\, beyond fabulous! We are so very blessed to have this stunning\, talented woman in our country. Bless her x!!”  Jacinta Christian 2025 \n“Truly amazing. I was in tears 3 times at the Cairns concert. Never have I felt such emotions at a concert before.”  Tracy Clark 2025 \n“Your music is a gift to us all! Keep sharing your beautiful voice and spreading love and positivity. Can’t wait to see what’s next!”   Julie Jones 2025 \n“Last night we saw Toni Childs in Cairns Australia\, and it was the best concert I’ve seen in decades. The last time I saw Toni in Concert was in 1994 in Sydney. From memory it too was great\, but it was oh so long ago. \nThis year Toni turns 68 so admittedly\, I was nervous because many of your favorite artist voices decline as they get much older. But smack my ass and call me Sally because she was absolutely extraordinary! Toni proved she still has that signature voice. By just the second song I knew this is going to be a great night. Her on stage energy was electric as was the audience engagement. She walked amongst the audience several times whilst singing hi-fiving people\, hugging some & sitting on some people’s lap. It was funny & entertaining. \nBut after a few of her classic hits\, that dreaded line you usually hear when your favorite artist says\, “I’m going to do some of my new music”. This of course is almost always followed by a polite albeit small round of applause. But alas\, smack my ass again\, but this time harder\, as after the first new song the audience rose to their feet & cheered & whistled with such enthusiasm & this continued on throughout the night.  \nI would strongly recommend you see this show if Toni comes to your area\, or if you are visiting a city she is touring. As Molly Meldrum would say “Do yourself a favor\, and see her in Concert.”   Dwain 2025 \n“Brilliant night in Geelong Toni Childs you have lost nothing in your amazing vocals\, it was a wonderful night filled with that amazing voice\, never stop believing!” Julie Campbell 2025 \n“Thoroughly enjoyed your show in Bunbury last night – loving your new direction. Your voice is as incredible as it was 40 years ago”.   Alexis Ward 2025
URL:https://tonichilds.com/event/the-art-house-wyong-nsw/
LOCATION:The Art House – Wyong\, NSW\, 19/21 Margaret St\, NSW\, 2259\, Australia
CATEGORIES:Concert
ATTACH;FMTTYPE=image/jpeg:https://tonichilds.com/wp-content/uploads/2024/04/441549284_984251533066403_3788917511293864102_n.jpg
ORGANIZER;CN="Big Mother Entertainment":MAILTO:admin@bigmotherentertainment.com
END:VEVENT
BEGIN:VEVENT
DTSTART;TZID=Australia/Sydney:20260725T193000
DTEND;TZID=Australia/Sydney:20260725T220000
DTSTAMP:20260424T042725
CREATED:20250909T194300Z
LAST-MODIFIED:20251009T012927Z
UID:16161-1785007800-1785016800@tonichilds.com
SUMMARY:Vancouver Playhouse - Vancouver\, BC
DESCRIPTION:Toni Childs\, Emmy Winner and three-time Grammy nominated recording artist with fans in over 50 countries around the world is back in Canada presenting a special two-hour performance celebrating her life’s musical work in song and story. \nToni is a celebrated artist known for her powerful voice\, independent spirit and crafted storytelling. You definitely do not want to miss what she’s bringing. \n\n“Get ready beauties\, I am coming to love you up!! I’m coming to make serious love to all of you with your clothes on.  And by God\, don’t we need more love to offset the darkness creeping across the world. \nAnd just so you know\, the love I bring\, you better believe has swagger and power and groove\, and is a true reset of positivity!”  Toni Childs \n\nIn the first hour\, Toni performs hits and fan favorites from Union\, House of Hope\, the Woman’s Boat and Keep the Faith. And in the second hour she performs a tasting of her new music from three powerful out-of-the-box productions: It’s All a Beautiful Noise\, Reef 360 and Citizens of the Planet. \nToni’s international hits include: Don’t Walk Away\, Stop Your Fussin’\, Walk and Talk Like Angels\, Zimbabwe\, Where’s the Ocean\, Many Rivers to Cross\, I’ve Got to Go Now and Because You’re Beautiful\, to name a few. \nOver Toni’s illustrious career she has opened for Bob Dylan and performed duets with greats such as Al Green and Peter Gabriel. She has toured the world over gaining a much-loved fan base. \nToni is offering an EXCLUSIVE VIP MEET & GREET PACKAGE. This exciting opportunity includes one concert ticket within the first row\, a digital copy of Toni Childs Greatest Hits double album set plus a drink backstage before the concert with Toni\, at a special ticket price of $190. Only 16 tickets available for Toni’s meet and greet! \nYou do not want to miss this very soul inspiring Greatest Hits Live – It’s Toni’s bitter-sweet chocolate box of memories! \n  \nHere’s what recent audiences in Australia had to say about The Toni Childs Retrospective: \n“Beautiful woman! I watch her concerts as often as I can. Each time\, beyond fabulous! We are so very blessed to have this stunning\, talented woman in our country. Bless her x!!”  Jacinta Christian 2025 \n“Truly amazing. I was in tears 3 times at the Cairns concert. Never have I felt such emotions at a concert before.”  Tracy Clark 2025 \n“Your music is a gift to us all! Keep sharing your beautiful voice and spreading love and positivity. Can’t wait to see what’s next!”   Julie Jones 2025 \n“Last night we saw Toni Childs in Cairns Australia\, and it was the best concert I’ve seen in decades. The last time I saw Toni in Concert was in 1994 in Sydney. From memory it too was great\, but it was oh so long ago. \nThis year Toni turns 68 so admittedly\, I was nervous because many of your favorite artist voices decline as they get much older. But smack my ass and call me Sally because she was absolutely extraordinary! Toni proved she still has that signature voice. By just the second song I knew this is going to be a great night. Her on stage energy was electric as was the audience engagement. She walked amongst the audience several times whilst singing hi-fiving people\, hugging some & sitting on some people’s lap. It was funny & entertaining. \nBut after a few of her classic hits\, that dreaded line you usually hear when your favorite artist says\, “I’m going to do some of my new music”. This of course is almost always followed by a polite albeit small round of applause. But alas\, smack my ass again\, but this time harder\, as after the first new song the audience rose to their feet & cheered & whistled with such enthusiasm & this continued on throughout the night.  \nI would strongly recommend you see this show if Toni comes to your area\, or if you are visiting a city she is touring. As Molly Meldrum would say “Do yourself a favor\, and see her in Concert.”   Dwain 2025 \n“Brilliant night in Geelong Toni Childs you have lost nothing in your amazing vocals\, it was a wonderful night filled with that amazing voice\, never stop believing!” Julie Campbell 2025 \n“Thoroughly enjoyed your show in Bunbury last night – loving your new direction. Your voice is as incredible as it was 40 years ago”.   Alexis Ward 2025
URL:https://tonichilds.com/event/vancouver-playhouse-vancouver-bc/
LOCATION:Vancouver Playhouse\, 600 Hamilton St\, Vancouver\, BC\, V6B 5N6\, Canada
CATEGORIES:Concert
ATTACH;FMTTYPE=image/jpeg:https://tonichilds.com/wp-content/uploads/2024/04/441549284_984251533066403_3788917511293864102_n.jpg
ORGANIZER;CN="Big Mother Entertainment":MAILTO:admin@bigmotherentertainment.com
END:VEVENT
BEGIN:VEVENT
DTSTART;VALUE=DATE:20260919
DTEND;VALUE=DATE:20260920
DTSTAMP:20260424T042725
CREATED:20260316T003854Z
LAST-MODIFIED:20260316T003854Z
UID:16321-1789776000-1789862399@tonichilds.com
SUMMARY:Sounds of Rock Music Festival - Hervy Bay\, QLD
DESCRIPTION:Sounds of Rock is the ultimate touring music festival dedicated to the soundtrack of our lives. \nAs a premier fixture on the Australian live music calendar\, we specialize in bringing world-class entertainment and rock legends to the heart of regional Australia. \nFrom heart-pounding anthems and killer riffs to the magic of an outdoor concert under the open sky\, our mission is to deliver a big-city festival experience right to your backyard
URL:https://tonichilds.com/event/sounds-of-rock-music-festival-hervy-bay-qld/
LOCATION:Sea Front Oval\, Pialba\, QLD\, 4655\, Australia
ATTACH;FMTTYPE=image/jpeg:https://tonichilds.com/wp-content/uploads/2026/03/IMG_2348.jpg
END:VEVENT
END:VCALENDAR