BEGIN:VCALENDAR
VERSION:2.0
PRODID:-//Toni Childs - ECPv6.15.3//NONSGML v1.0//EN
CALSCALE:GREGORIAN
METHOD:PUBLISH
X-ORIGINAL-URL:https://tonichilds.com
X-WR-CALDESC:Events for Toni Childs
REFRESH-INTERVAL;VALUE=DURATION:PT1H
X-Robots-Tag:noindex
X-PUBLISHED-TTL:PT1H
BEGIN:VTIMEZONE
TZID:UTC
BEGIN:STANDARD
TZOFFSETFROM:+0000
TZOFFSETTO:+0000
TZNAME:UTC
DTSTART:20200101T000000
END:STANDARD
END:VTIMEZONE
BEGIN:VEVENT
DTSTART;TZID=UTC:20201204T150000
DTEND;TZID=UTC:20201209T150000
DTSTAMP:20260424T084517
CREATED:20200113T222445Z
LAST-MODIFIED:20200113T222445Z
UID:11230-1607094000-1607526000@tonichilds.com
SUMMARY:Radical Alignment Retreat\, Ubud- Bali. December 4-9 2020
DESCRIPTION:
URL:https://tonichilds.com/event/radical-alignment-retreat-ubud-bali-december-4-9-2020/
LOCATION:Surya Kembar Luxury Villas\, Raya Kumbuh\, Mas\,\, Ubud\, Bali\, 80571\, Indonesia
CATEGORIES:Retreat
ATTACH;FMTTYPE=image/jpeg:https://tonichilds.com/wp-content/uploads/2019/08/IMG-6997-scaled-e1580254752814.jpg
END:VEVENT
END:VCALENDAR