BEGIN:VCALENDAR
VERSION:2.0
PRODID:-//Toni Childs - ECPv6.15.3//NONSGML v1.0//EN
CALSCALE:GREGORIAN
METHOD:PUBLISH
X-ORIGINAL-URL:https://tonichilds.com
X-WR-CALDESC:Events for Toni Childs
REFRESH-INTERVAL;VALUE=DURATION:PT1H
X-Robots-Tag:noindex
X-PUBLISHED-TTL:PT1H
BEGIN:VTIMEZONE
TZID:Australia/Sydney
BEGIN:STANDARD
TZOFFSETFROM:+1100
TZOFFSETTO:+1000
TZNAME:AEST
DTSTART:20230401T160000
END:STANDARD
BEGIN:DAYLIGHT
TZOFFSETFROM:+1000
TZOFFSETTO:+1100
TZNAME:AEDT
DTSTART:20230930T160000
END:DAYLIGHT
END:VTIMEZONE
BEGIN:VEVENT
DTSTART;VALUE=DATE:20230520
DTEND;VALUE=DATE:20230521
DTSTAMP:20260424T090453
CREATED:20230124T013651Z
LAST-MODIFIED:20230124T014055Z
UID:15188-1684540800-1684627199@tonichilds.com
SUMMARY:Boab Metal Ord Valley Muster
DESCRIPTION:About the Festival\nThrough a diverse calendar packed with exciting events & experiences including dining under the stars\, music\, yoga boats\, comedy\, storytelling\, rodeo and more\, to the local characters & flavour that make Kununurra and the East Kimberley one of the most iconic destinations in the world\, the Festival is a truly enthralling\, enchanting and magical experience for all. \nFrom humble beginnings in 2001\, the Boab Metals Ord Valley Muster came to life quietly as a simple one night affair\, a pleasant dinner in the outback for local businesses. Since then\, it has grown at lightning speed to be firmly established as a pre-eminent event in the national festival calendar\, being a three time Hall of Fame Inductee (2017-2011-2008) at the WA Tourism Awards as well as being officially recognised as the Best Regional Event in Australia at the 2015 Australian Event Awards to name but a few notches of ‘The Muster’s’ belt.
URL:https://tonichilds.com/event/boab-metal-ord-valley-muster/
LOCATION:Ord Valley Muster\, Kununurra\, NT\, Australia
CATEGORIES:Concert,Festival
END:VEVENT
END:VCALENDAR